BEGIN:VCALENDAR
VERSION:2.0
PRODID:-//Fraternité Saint-Pierre dans l&#039;archidiocèse de Bordeaux - ECPv6.15.20//NONSGML v1.0//EN
CALSCALE:GREGORIAN
METHOD:PUBLISH
X-ORIGINAL-URL:https://fssp-bordeaux.fr
X-WR-CALDESC:Évènements pour Fraternité Saint-Pierre dans l&#039;archidiocèse de Bordeaux
REFRESH-INTERVAL;VALUE=DURATION:PT1H
X-Robots-Tag:noindex
X-PUBLISHED-TTL:PT1H
BEGIN:VTIMEZONE
TZID:Europe/Paris
BEGIN:DAYLIGHT
TZOFFSETFROM:+0100
TZOFFSETTO:+0200
TZNAME:CEST
DTSTART:20250330T010000
END:DAYLIGHT
BEGIN:STANDARD
TZOFFSETFROM:+0200
TZOFFSETTO:+0100
TZNAME:CET
DTSTART:20251026T010000
END:STANDARD
BEGIN:DAYLIGHT
TZOFFSETFROM:+0100
TZOFFSETTO:+0200
TZNAME:CEST
DTSTART:20260329T010000
END:DAYLIGHT
BEGIN:STANDARD
TZOFFSETFROM:+0200
TZOFFSETTO:+0100
TZNAME:CET
DTSTART:20261025T010000
END:STANDARD
BEGIN:DAYLIGHT
TZOFFSETFROM:+0100
TZOFFSETTO:+0200
TZNAME:CEST
DTSTART:20270328T010000
END:DAYLIGHT
BEGIN:STANDARD
TZOFFSETFROM:+0200
TZOFFSETTO:+0100
TZNAME:CET
DTSTART:20271031T010000
END:STANDARD
END:VTIMEZONE
BEGIN:VEVENT
DTSTART;TZID=Europe/Paris:20260125T093000
DTEND;TZID=Europe/Paris:20260125T103000
DTSTAMP:20260420T145434
CREATED:20260123T101706Z
LAST-MODIFIED:20260123T101706Z
UID:10002451-1769333400-1769337000@fssp-bordeaux.fr
SUMMARY:topo du dimanche matin
DESCRIPTION:rendez-vous à 9h30 dans la salle de caté de St Bruno côté parking pour un topo adultes avant la messe de 10h30.
URL:https://fssp-bordeaux.fr/evenement/topo-du-dimanche-matin/
LOCATION:Eglise Saint-Bruno\, Place du 11 Novembre\, Bordeaux\, 33000\, France
CATEGORIES:Catéchisme
ATTACH;FMTTYPE=image/jpeg:https://fssp-bordeaux.fr/wp-content/uploads/2025/11/topo-du-dimanche.jpg
ORGANIZER;CN="Fraternit%C3%A9 Saint-Pierre de Bordeaux":MAILTO:contact@fssp-bordeaux.fr
END:VEVENT
END:VCALENDAR