BEGIN:VCALENDAR
VERSION:2.0
PRODID:-//Fraternité Saint-Pierre dans l&#039;archidiocèse de Bordeaux - ECPv6.15.20//NONSGML v1.0//EN
CALSCALE:GREGORIAN
METHOD:PUBLISH
X-WR-CALNAME:Fraternité Saint-Pierre dans l&#039;archidiocèse de Bordeaux
X-ORIGINAL-URL:https://fssp-bordeaux.fr
X-WR-CALDESC:Évènements pour Fraternité Saint-Pierre dans l&#039;archidiocèse de Bordeaux
REFRESH-INTERVAL;VALUE=DURATION:PT1H
X-Robots-Tag:noindex
X-PUBLISHED-TTL:PT1H
BEGIN:VTIMEZONE
TZID:Europe/Paris
BEGIN:DAYLIGHT
TZOFFSETFROM:+0100
TZOFFSETTO:+0200
TZNAME:CEST
DTSTART:20200329T010000
END:DAYLIGHT
BEGIN:STANDARD
TZOFFSETFROM:+0200
TZOFFSETTO:+0100
TZNAME:CET
DTSTART:20201025T010000
END:STANDARD
BEGIN:DAYLIGHT
TZOFFSETFROM:+0100
TZOFFSETTO:+0200
TZNAME:CEST
DTSTART:20210328T010000
END:DAYLIGHT
BEGIN:STANDARD
TZOFFSETFROM:+0200
TZOFFSETTO:+0100
TZNAME:CET
DTSTART:20211031T010000
END:STANDARD
BEGIN:DAYLIGHT
TZOFFSETFROM:+0100
TZOFFSETTO:+0200
TZNAME:CEST
DTSTART:20220327T010000
END:DAYLIGHT
BEGIN:STANDARD
TZOFFSETFROM:+0200
TZOFFSETTO:+0100
TZNAME:CET
DTSTART:20221030T010000
END:STANDARD
END:VTIMEZONE
BEGIN:VEVENT
DTSTART;TZID=Europe/Paris:20211127T100000
DTEND;TZID=Europe/Paris:20211127T160000
DTSTAMP:20260420T145618
CREATED:20211106T203246Z
LAST-MODIFIED:20211217T162600Z
UID:3803167-1638007200-1638028800@fssp-bordeaux.fr
SUMMARY:récollection paroissiale de l’Avent
DESCRIPTION:Ouverte à tous à partir de 17 ans\, sans inscription\, de 10h00 à 16h00\, à Saint-Bruno. Cette récollection sera prêchée par l’abbé Loddé.
URL:https://fssp-bordeaux.fr/evenement/recollection-paroissiale-de-lavent/
LOCATION:Eglise Saint-Bruno\, Place du 11 Novembre\, Bordeaux\, 33000\, France
CATEGORIES:Récollection
ORGANIZER;CN="Fraternit%C3%A9 Saint-Pierre de Bordeaux":MAILTO:contact@fssp-bordeaux.fr
END:VEVENT
END:VCALENDAR