BEGIN:VCALENDAR
VERSION:2.0
PRODID:-//Fraternité Saint-Pierre dans l&#039;archidiocèse de Bordeaux - ECPv6.15.20//NONSGML v1.0//EN
CALSCALE:GREGORIAN
METHOD:PUBLISH
X-WR-CALNAME:Fraternité Saint-Pierre dans l&#039;archidiocèse de Bordeaux
X-ORIGINAL-URL:https://fssp-bordeaux.fr
X-WR-CALDESC:Évènements pour Fraternité Saint-Pierre dans l&#039;archidiocèse de Bordeaux
REFRESH-INTERVAL;VALUE=DURATION:PT1H
X-Robots-Tag:noindex
X-PUBLISHED-TTL:PT1H
BEGIN:VTIMEZONE
TZID:Europe/Paris
BEGIN:DAYLIGHT
TZOFFSETFROM:+0100
TZOFFSETTO:+0200
TZNAME:CEST
DTSTART:20200329T010000
END:DAYLIGHT
BEGIN:STANDARD
TZOFFSETFROM:+0200
TZOFFSETTO:+0100
TZNAME:CET
DTSTART:20201025T010000
END:STANDARD
BEGIN:DAYLIGHT
TZOFFSETFROM:+0100
TZOFFSETTO:+0200
TZNAME:CEST
DTSTART:20210328T010000
END:DAYLIGHT
BEGIN:STANDARD
TZOFFSETFROM:+0200
TZOFFSETTO:+0100
TZNAME:CET
DTSTART:20211031T010000
END:STANDARD
BEGIN:DAYLIGHT
TZOFFSETFROM:+0100
TZOFFSETTO:+0200
TZNAME:CEST
DTSTART:20220327T010000
END:DAYLIGHT
BEGIN:STANDARD
TZOFFSETFROM:+0200
TZOFFSETTO:+0100
TZNAME:CET
DTSTART:20221030T010000
END:STANDARD
END:VTIMEZONE
BEGIN:VEVENT
DTSTART;TZID=Europe/Paris:20211212T180000
DTEND;TZID=Europe/Paris:20211212T193000
DTSTAMP:20260422T155418
CREATED:20211205T164026Z
LAST-MODIFIED:20211217T162308Z
UID:3893971-1639332000-1639337400@fssp-bordeaux.fr
SUMMARY:Messe dominicale à Arcachon
DESCRIPTION:à la basilique ND d’Arcachon.
URL:https://fssp-bordeaux.fr/evenement/messe-dominicale-a-arcachon/
LOCATION:Basilique Notre-Dame\, Place de la Basilique Notre-Dame\, Arcachon\, 33120\, France
CATEGORIES:Messe à Arcachon
ATTACH;FMTTYPE=image/jpeg:https://fssp-bordeaux.fr/wp-content/uploads/2019/04/retraite-arcachon-2019-162.jpg
ORGANIZER;CN="Fraternit%C3%A9 Saint-Pierre de Bordeaux":MAILTO:contact@fssp-bordeaux.fr
END:VEVENT
END:VCALENDAR